BEGIN:VCALENDAR
VERSION:2.0
PRODID:-//Date iCal//NONSGML kigkonsult.se iCalcreator 2.20.2//
METHOD:PUBLISH
X-WR-CALNAME;VALUE=TEXT:Event Calendar
BEGIN:VEVENT
UID:calendar.12849.field_event_date.0@vt.audubon.org
DTSTAMP:20210605T044518Z
CREATED:20210527T211742Z
DESCRIPTION:Join Margaret Fowle\, Senior Conservation Biologist at Au\n  Sa
 turday\, June 5\, 2021 - \n03:30 to 05:00
DTSTART:20210605T073000Z
DTEND:20210605T090000Z
LAST-MODIFIED:20210527T212011Z
LOCATION:1715-1797 Swift Street\, South Burlington\, Vermont\, 05403\, Unit
 ed States
SUMMARY:Community Hike Series: Spring Bird Walk
URL;TYPE=URI:https://vt.audubon.org/events/community-hike-series-spring-bir
 d-walk
END:VEVENT
END:VCALENDAR
