BEGIN:VCALENDAR
VERSION:2.0
PRODID:-//Date iCal//NONSGML kigkonsult.se iCalcreator 2.20.2//
METHOD:PUBLISH
X-WR-CALNAME;VALUE=TEXT:Event Calendar
BEGIN:VTIMEZONE
TZID:America/New_York
BEGIN:STANDARD
DTSTART:20211107T020000
TZOFFSETFROM:-0400
TZOFFSETTO:-0500
TZNAME:EST
END:STANDARD
BEGIN:DAYLIGHT
DTSTART:20210314T020000
TZOFFSETFROM:-0500
TZOFFSETTO:-0400
RDATE:20220313T020000
TZNAME:EDT
END:DAYLIGHT
END:VTIMEZONE
BEGIN:VEVENT
UID:calendar.12829.field_event_date.0@vt.audubon.org
DTSTAMP:20210515T221601Z
CREATED:20210426T185405Z
DESCRIPTION:Come experience nature in new and deeply familiar ways w\n  Sat
 urday\, September 25\, 2021 - \n06:00 to 08:00
DTSTART;TZID=America/New_York:20210925T060000
DTEND;TZID=America/New_York:20210925T080000
LAST-MODIFIED:20210426T191755Z
LOCATION:Just beyond 214 Main Road\, Huntington\, Vermont\, 05462\, United 
 States
SUMMARY:Fall Forest Bathing 2021
URL;TYPE=URI:https://vt.audubon.org/events/fall-forest-bathing-2021
END:VEVENT
END:VCALENDAR
