BEGIN:VCALENDAR
VERSION:2.0
PRODID:-//Date iCal//NONSGML kigkonsult.se iCalcreator 2.20.2//
METHOD:PUBLISH
X-WR-CALNAME;VALUE=TEXT:Event Calendar
BEGIN:VTIMEZONE
TZID:America/New_York
BEGIN:STANDARD
DTSTART:20211107T020000
TZOFFSETFROM:-0400
TZOFFSETTO:-0500
TZNAME:EST
END:STANDARD
BEGIN:DAYLIGHT
DTSTART:20220313T020000
TZOFFSETFROM:-0500
TZOFFSETTO:-0400
TZNAME:EDT
END:DAYLIGHT
END:VTIMEZONE
BEGIN:VEVENT
UID:calendar.12828.field_event_date.0@vt.audubon.org
DTSTAMP:20210515T221612Z
CREATED:20210426T181859Z
DESCRIPTION:Come experience nature in new and deeply familiar ways w\n  Sat
 urday\, December 11\, 2021 - \n05:00 to 07:00
DTSTART;TZID=America/New_York:20211211T050000
DTEND;TZID=America/New_York:20211211T070000
LAST-MODIFIED:20210426T191755Z
LOCATION:Just beyond 214 Main Road\, Huntington\, Vermont\, 05462\, United 
 States
SUMMARY:Winter Forest Bathing 2021
URL;TYPE=URI:https://vt.audubon.org/events/winter-forest-bathing-2021
END:VEVENT
END:VCALENDAR
